BEGIN:VCALENDAR
VERSION:2.0
PRODID:-//Polski Związek Sportu Niepełnosprawnych &quot;Start&quot; - ECPv6.15.12.2//NONSGML v1.0//EN
CALSCALE:GREGORIAN
METHOD:PUBLISH
X-ORIGINAL-URL:https://pzsnstart.eu
X-WR-CALDESC:Wydarzenia dla Polski Związek Sportu Niepełnosprawnych &quot;Start&quot;
REFRESH-INTERVAL;VALUE=DURATION:PT1H
X-Robots-Tag:noindex
X-PUBLISHED-TTL:PT1H
BEGIN:VTIMEZONE
TZID:Europe/Helsinki
BEGIN:DAYLIGHT
TZOFFSETFROM:+0200
TZOFFSETTO:+0300
TZNAME:EEST
DTSTART:20240331T010000
END:DAYLIGHT
BEGIN:STANDARD
TZOFFSETFROM:+0300
TZOFFSETTO:+0200
TZNAME:EET
DTSTART:20241027T010000
END:STANDARD
BEGIN:DAYLIGHT
TZOFFSETFROM:+0200
TZOFFSETTO:+0300
TZNAME:EEST
DTSTART:20250330T010000
END:DAYLIGHT
BEGIN:STANDARD
TZOFFSETFROM:+0300
TZOFFSETTO:+0200
TZNAME:EET
DTSTART:20251026T010000
END:STANDARD
BEGIN:DAYLIGHT
TZOFFSETFROM:+0200
TZOFFSETTO:+0300
TZNAME:EEST
DTSTART:20260329T010000
END:DAYLIGHT
BEGIN:STANDARD
TZOFFSETFROM:+0300
TZOFFSETTO:+0200
TZNAME:EET
DTSTART:20261025T010000
END:STANDARD
END:VTIMEZONE
BEGIN:VEVENT
DTSTART;VALUE=DATE:20251017
DTEND;VALUE=DATE:20251020
DTSTAMP:20260424T024510
CREATED:20250318T110254Z
LAST-MODIFIED:20251014T133306Z
UID:10001023-1760659200-1760918399@pzsnstart.eu
SUMMARY:Puchar Polski w Blind Footballu
DESCRIPTION:Bielsko ugości uczestników Pucharu Polski Blind Football 2025!  \nJuż w najbliższy weekend 17-19 października\, Bielsko-Biała stanie się trzecim miastem na biało-czerwonej mapie futbolu osób niewidomych\, w którym rozegrany zostanie turniej o Puchar Polski! Weźmie w nim udział rekordowa liczba ośmiu zespołów!  \nDrużyny rywalizujące jeszcze niedawno o złoto w PGF Blind Football League oraz PGF Blind Football Development League – czyli niższym poziomie rozgrywkowym – spotkają się w Bielsku\, aby zakończyć klubowe zmagania w sezonie 2025 rozgrywając turniej o krajowy puchar! Oprócz ekip doskonale znanych już z „lokalnego podwórka” pojawią się debiutanci z Lublina występujący pod egidą Fundacji „Wspólnie Idziemy Po Sukces”.   \nNa przełomie września i października odbyło się losowanie grup\, w których zespoły z całej Polski będą walczyć o pierwsze miejsca celem uzyskania prawa do gry w finale – ekipy z miejsc numer 2 zagrają o brąz\, z miejsc numer 3 o piątą lokatę\, a zespołom sklasyfikowanym na miejscach numer 4 pozostanie walka o siódmą lokatę.  \nTak przedstawiają się grupy nadchodzącego Pucharu Polski:  \nGrupa A  \n\nŚląsk Wrocław Blind Football \n\n\nWarta Poznań Blind Football \n\n\nARTS Warszawa Blind Football \n\n\nSSN Start Łódź \n\nGrupa B  \n\nWisła Blind Football Kraków \n\n\nRekord Bielsko-Biała Blind Football \n\n\nNiezłomni Blind Football Zabrze \n\n\nWIPS Lublin \n\nNadchodząca\, ósma już edycja rozgrywek o krajowy puchar\, będzie ponownie przełamywać bariery na drodze rozwoju futbolu osób niewidomych w Polsce\, co bez wątpienia jest powodem do dumy. Nowe miasto\, debiutujące drużyny i gracze\, skondensowana do maksimum rywalizacja z udziałem największej liczby klubów w historii – wszystko to napawa optymizmem i satysfakcją z obranej przed kilkoma laty ścieżki.  \nNam nie pozostaje nic innego jak dopingowanie wszystkich uczestnikow i zachęcenie kibiców do wizyty pod poniższym linkiem celem zapoznania się ze szczegółami zaplanowanych rozgrywek: http://bit.ly/47mhiAf  
URL:https://pzsnstart.eu/wydarzenie/puchar-polski-w-blind-footballu/
LOCATION:Centrum Sportu REKORD Bielsko-Biała\, Startowa 13\, Bielsko-Biała\, śląskie\, 43-300\, Poland
CATEGORIES:Blind football
END:VEVENT
END:VCALENDAR