BEGIN:VCALENDAR
VERSION:2.0
PRODID:-//Polski Związek Sportu Niepełnosprawnych &quot;Start&quot; - ECPv6.15.12.2//NONSGML v1.0//EN
CALSCALE:GREGORIAN
METHOD:PUBLISH
X-ORIGINAL-URL:https://pzsnstart.eu
X-WR-CALDESC:Wydarzenia dla Polski Związek Sportu Niepełnosprawnych &quot;Start&quot;
REFRESH-INTERVAL;VALUE=DURATION:PT1H
X-Robots-Tag:noindex
X-PUBLISHED-TTL:PT1H
BEGIN:VTIMEZONE
TZID:Europe/Helsinki
BEGIN:DAYLIGHT
TZOFFSETFROM:+0200
TZOFFSETTO:+0300
TZNAME:EEST
DTSTART:20250330T010000
END:DAYLIGHT
BEGIN:STANDARD
TZOFFSETFROM:+0300
TZOFFSETTO:+0200
TZNAME:EET
DTSTART:20251026T010000
END:STANDARD
BEGIN:DAYLIGHT
TZOFFSETFROM:+0200
TZOFFSETTO:+0300
TZNAME:EEST
DTSTART:20260329T010000
END:DAYLIGHT
BEGIN:STANDARD
TZOFFSETFROM:+0300
TZOFFSETTO:+0200
TZNAME:EET
DTSTART:20261025T010000
END:STANDARD
BEGIN:DAYLIGHT
TZOFFSETFROM:+0200
TZOFFSETTO:+0300
TZNAME:EEST
DTSTART:20270328T010000
END:DAYLIGHT
BEGIN:STANDARD
TZOFFSETFROM:+0300
TZOFFSETTO:+0200
TZNAME:EET
DTSTART:20271031T010000
END:STANDARD
END:VTIMEZONE
BEGIN:VEVENT
DTSTART;VALUE=DATE:20260619
DTEND;VALUE=DATE:20260622
DTSTAMP:20260424T004034
CREATED:20251216T131558Z
LAST-MODIFIED:20251216T131558Z
UID:10001078-1781827200-1782086399@pzsnstart.eu
SUMMARY:III Turniej Mistrzostw Polski w Blind Footballu
DESCRIPTION:
URL:https://pzsnstart.eu/wydarzenie/iii-turniej-mistrzostw-polski-w-blind-footballu/
LOCATION:Centrum Sportu REKORD Bielsko-Biała\, Startowa 13\, Bielsko-Biała\, śląskie\, 43-300\, Poland
CATEGORIES:Blind football
END:VEVENT
END:VCALENDAR