BEGIN:VCALENDAR
VERSION:2.0
PRODID:-//Polski Związek Sportu Niepełnosprawnych &quot;Start&quot; - ECPv6.15.12.2//NONSGML v1.0//EN
CALSCALE:GREGORIAN
METHOD:PUBLISH
X-ORIGINAL-URL:https://pzsnstart.eu
X-WR-CALDESC:Wydarzenia dla Polski Związek Sportu Niepełnosprawnych &quot;Start&quot;
REFRESH-INTERVAL;VALUE=DURATION:PT1H
X-Robots-Tag:noindex
X-PUBLISHED-TTL:PT1H
BEGIN:VTIMEZONE
TZID:Europe/Helsinki
BEGIN:DAYLIGHT
TZOFFSETFROM:+0200
TZOFFSETTO:+0300
TZNAME:EEST
DTSTART:20240331T010000
END:DAYLIGHT
BEGIN:STANDARD
TZOFFSETFROM:+0300
TZOFFSETTO:+0200
TZNAME:EET
DTSTART:20241027T010000
END:STANDARD
BEGIN:DAYLIGHT
TZOFFSETFROM:+0200
TZOFFSETTO:+0300
TZNAME:EEST
DTSTART:20250330T010000
END:DAYLIGHT
BEGIN:STANDARD
TZOFFSETFROM:+0300
TZOFFSETTO:+0200
TZNAME:EET
DTSTART:20251026T010000
END:STANDARD
BEGIN:DAYLIGHT
TZOFFSETFROM:+0200
TZOFFSETTO:+0300
TZNAME:EEST
DTSTART:20260329T010000
END:DAYLIGHT
BEGIN:STANDARD
TZOFFSETFROM:+0300
TZOFFSETTO:+0200
TZNAME:EET
DTSTART:20261025T010000
END:STANDARD
END:VTIMEZONE
BEGIN:VEVENT
DTSTART;VALUE=DATE:20250621
DTEND;VALUE=DATE:20250623
DTSTAMP:20260425T054250
CREATED:20250211T181005Z
LAST-MODIFIED:20250612T153516Z
UID:10001007-1750464000-1750636799@pzsnstart.eu
SUMMARY:Mistrzostwa Polski w paratańcu sportowym
DESCRIPTION:W dniach 21–22 czerwca 2025 roku w Auli ICDS w Łomiankach odbędą się XXVII Mistrzostwa Polski w Paratańcu Sportowym\, połączone z międzynarodowym turniejem Para Dance Sport Polish Open. \nOrganizatorem wydarzenia jest Klub Swing-Duet Łomianki\, który od lat promuje rozwój paratańca w Polsce i na świecie. Tegoroczna edycja zgromadzi na parkiecie zarówno najlepszych polskich zawodników\, jak i tancerzy z wielu krajów – wszystko w duchu integracji\, sportowej rywalizacji i artystycznej pasji. \nPodczas dwóch dni zmagań publiczność będzie mogła podziwiać zróżnicowane style taneczne\, profesjonalne choreografie oraz niezwykły talent sportowców z niepełnosprawnościami. \nWstęp na wydarzenie jest bezpłatny.
URL:https://pzsnstart.eu/wydarzenie/mistrzostwa-polski-w-paratancu-sportowym/
LOCATION:Łomianki\, Staszica 2\, Łomianki\, mazowieckie\, 05-092\, Poland
CATEGORIES:Parataniec sportowy
END:VEVENT
END:VCALENDAR