BEGIN:VCALENDAR
VERSION:2.0
PRODID:-//Polski Związek Sportu Niepełnosprawnych &quot;Start&quot; - ECPv6.15.12.2//NONSGML v1.0//EN
CALSCALE:GREGORIAN
METHOD:PUBLISH
X-ORIGINAL-URL:https://pzsnstart.eu
X-WR-CALDESC:Wydarzenia dla Polski Związek Sportu Niepełnosprawnych &quot;Start&quot;
REFRESH-INTERVAL;VALUE=DURATION:PT1H
X-Robots-Tag:noindex
X-PUBLISHED-TTL:PT1H
BEGIN:VTIMEZONE
TZID:Europe/Helsinki
BEGIN:DAYLIGHT
TZOFFSETFROM:+0200
TZOFFSETTO:+0300
TZNAME:EEST
DTSTART:20240331T010000
END:DAYLIGHT
BEGIN:STANDARD
TZOFFSETFROM:+0300
TZOFFSETTO:+0200
TZNAME:EET
DTSTART:20241027T010000
END:STANDARD
BEGIN:DAYLIGHT
TZOFFSETFROM:+0200
TZOFFSETTO:+0300
TZNAME:EEST
DTSTART:20250330T010000
END:DAYLIGHT
BEGIN:STANDARD
TZOFFSETFROM:+0300
TZOFFSETTO:+0200
TZNAME:EET
DTSTART:20251026T010000
END:STANDARD
BEGIN:DAYLIGHT
TZOFFSETFROM:+0200
TZOFFSETTO:+0300
TZNAME:EEST
DTSTART:20260329T010000
END:DAYLIGHT
BEGIN:STANDARD
TZOFFSETFROM:+0300
TZOFFSETTO:+0200
TZNAME:EET
DTSTART:20261025T010000
END:STANDARD
END:VTIMEZONE
BEGIN:VEVENT
DTSTART;VALUE=DATE:20250614
DTEND;VALUE=DATE:20250616
DTSTAMP:20260425T055117
CREATED:20250211T180748Z
LAST-MODIFIED:20250609T222411Z
UID:10001004-1749859200-1750031999@pzsnstart.eu
SUMMARY:II runda Paralekkoatletycznego Grand Prix Polski
DESCRIPTION:Piła zaprasza na emocjonujące zmagania Paralekkoatletycznego Grand Prix Polski! \nJuż 14 i 15 czerwca 2025 roku stadion przy ulicy Żeromskiego w Pile zamieni się w arenę sportowych zmagań\, które dostarczą niezapomnianych emocji! To historyczne wydarzenie – po raz pierwszy w historii Paralekkoatletyczne Grand Prix Polski zawita do miasta grodu Staszica\, stając się wyjątkowym świętem sportu i integracji. \nII Runda Paralekkoatletycznego Grand Prix Polski to doskonała okazja\, by zobaczyć najlepszych polskich sportowców z niepełnosprawnościami w akcji. Zawodnicy będą walczyć o jak najlepsze wyniki\, które pozwolą im zdobyć minimum kwalifikacyjne na prestiżowe imprezy międzynarodowe\, takie jak Mistrzostwa Świata czy Igrzyska Paralimpijskie Młodzieży. \nW programie imprezy znajdą się emocjonujące biegi na 100\, 200\, 400\, 1500 i 5000 metrów\, skoki w dal i wzwyż\, a także pchnięcie kulą i rzuty – dyskiem\, oszczepem i maczugą. Na starcie pojawią się także zawodnicy pełnosprawni\, co dodatkowo podnosi rangę rywalizacji. \nOrganizatorzy zapraszają wszystkich mieszkańców i gości Piły do kibicowania i wspólnego przeżywania sportowych emocji. To nie tylko zawody\, ale i inspirujące spotkanie ludzi\, którzy pokazują\, że sport nie zna barier. \nWejście na imprezę jest otwarte i bezpłatne. \nSzczegóły wydarzenia i kontakt:Stadion MOSiR\, ul. Żeromskiego 90\, Piła14-15 czerwca 2025 \nKomunikat organizacyjny: https://pzsnstart.eu/ii-runda-paralekkoatletycznego-grand-prix-polski-pila-13-15-06-2025/ \nNie przegap tej wyjątkowej sportowej uczty – bądź z nami i poczuj ducha paralekkoatletyki w sercu grodu Staszica!
URL:https://pzsnstart.eu/wydarzenie/ii-runda-paralekkoatletyczne-grand-prix-polski-runda/
LOCATION:Piła\, Żeromskiego 90\, Piła\, wielkopolskie\, 64-920\, Poland
CATEGORIES:Paralekkoatletyka
ATTACH;FMTTYPE=image/png:https://pzsnstart.eu/wp-content/uploads/2025/02/fsyhfnwj-e1740050382717.png
END:VEVENT
END:VCALENDAR