BEGIN:VCALENDAR
VERSION:2.0
PRODID:-//Polski Związek Sportu Niepełnosprawnych &quot;Start&quot; - ECPv6.15.12.2//NONSGML v1.0//EN
CALSCALE:GREGORIAN
METHOD:PUBLISH
X-ORIGINAL-URL:https://pzsnstart.eu
X-WR-CALDESC:Wydarzenia dla Polski Związek Sportu Niepełnosprawnych &quot;Start&quot;
REFRESH-INTERVAL;VALUE=DURATION:PT1H
X-Robots-Tag:noindex
X-PUBLISHED-TTL:PT1H
BEGIN:VTIMEZONE
TZID:Europe/Helsinki
BEGIN:DAYLIGHT
TZOFFSETFROM:+0200
TZOFFSETTO:+0300
TZNAME:EEST
DTSTART:20240331T010000
END:DAYLIGHT
BEGIN:STANDARD
TZOFFSETFROM:+0300
TZOFFSETTO:+0200
TZNAME:EET
DTSTART:20241027T010000
END:STANDARD
BEGIN:DAYLIGHT
TZOFFSETFROM:+0200
TZOFFSETTO:+0300
TZNAME:EEST
DTSTART:20250330T010000
END:DAYLIGHT
BEGIN:STANDARD
TZOFFSETFROM:+0300
TZOFFSETTO:+0200
TZNAME:EET
DTSTART:20251026T010000
END:STANDARD
BEGIN:DAYLIGHT
TZOFFSETFROM:+0200
TZOFFSETTO:+0300
TZNAME:EEST
DTSTART:20260329T010000
END:DAYLIGHT
BEGIN:STANDARD
TZOFFSETFROM:+0300
TZOFFSETTO:+0200
TZNAME:EET
DTSTART:20261025T010000
END:STANDARD
END:VTIMEZONE
BEGIN:VEVENT
DTSTART;VALUE=DATE:20251017
DTEND;VALUE=DATE:20251020
DTSTAMP:20260424T005239
CREATED:20250318T110832Z
LAST-MODIFIED:20251016T115329Z
UID:10001024-1760659200-1760918399@pzsnstart.eu
SUMMARY:IV runda Parapływackiego Grand Prix Polski Memoriał im. Maćka Maika
DESCRIPTION:Serdecznie zapraszamy na 18. edycję Mitingu Pływackiego poświęconego pamięci wspaniałego tyskiego pływaka Maćka Maika – medalisty Igrzysk Paraolimpijskich Sydney 2000 (złoto i dwa srebra)\, a także multimedalisty Mistrzostw Europy i Mistrzostw Świata. \nMiting zorganizowany będzie na basenie MOSiR w Tychach przy ul. Edukacji 9 w dniach 17-19.10.2025 r. \nW zawodach mogą wziąć udział niepełnosprawni i pełnosprawni pływacy z Polski w każdym wieku. \n 
URL:https://pzsnstart.eu/wydarzenie/iv-runda-paraplywackiego-grand-prix-polski-memorial-im-macka-maika/
LOCATION:Tychy\, ul. Edukacji 9\, Tychy\, śląskie\, 43-100\, Poland
CATEGORIES:Parapływanie
ATTACH;FMTTYPE=image/png:https://pzsnstart.eu/wp-content/uploads/2025/02/fffff-e1740050766637.png
END:VEVENT
END:VCALENDAR