BEGIN:VCALENDAR
VERSION:2.0
PRODID:-//Polski Związek Sportu Niepełnosprawnych &quot;Start&quot; - ECPv6.15.12.2//NONSGML v1.0//EN
CALSCALE:GREGORIAN
METHOD:PUBLISH
X-ORIGINAL-URL:https://pzsnstart.eu
X-WR-CALDESC:Wydarzenia dla Polski Związek Sportu Niepełnosprawnych &quot;Start&quot;
REFRESH-INTERVAL;VALUE=DURATION:PT1H
X-Robots-Tag:noindex
X-PUBLISHED-TTL:PT1H
BEGIN:VTIMEZONE
TZID:Europe/Helsinki
BEGIN:DAYLIGHT
TZOFFSETFROM:+0200
TZOFFSETTO:+0300
TZNAME:EEST
DTSTART:20240331T010000
END:DAYLIGHT
BEGIN:STANDARD
TZOFFSETFROM:+0300
TZOFFSETTO:+0200
TZNAME:EET
DTSTART:20241027T010000
END:STANDARD
BEGIN:DAYLIGHT
TZOFFSETFROM:+0200
TZOFFSETTO:+0300
TZNAME:EEST
DTSTART:20250330T010000
END:DAYLIGHT
BEGIN:STANDARD
TZOFFSETFROM:+0300
TZOFFSETTO:+0200
TZNAME:EET
DTSTART:20251026T010000
END:STANDARD
BEGIN:DAYLIGHT
TZOFFSETFROM:+0200
TZOFFSETTO:+0300
TZNAME:EEST
DTSTART:20260329T010000
END:DAYLIGHT
BEGIN:STANDARD
TZOFFSETFROM:+0300
TZOFFSETTO:+0200
TZNAME:EET
DTSTART:20261025T010000
END:STANDARD
END:VTIMEZONE
BEGIN:VEVENT
DTSTART;VALUE=DATE:20251114
DTEND;VALUE=DATE:20251117
DTSTAMP:20260423T225312
CREATED:20250318T111253Z
LAST-MODIFIED:20250916T130813Z
UID:10001026-1763078400-1763337599@pzsnstart.eu
SUMMARY:Puchar Polski w Parapodnoszeniu Ciężarów
DESCRIPTION:
URL:https://pzsnstart.eu/wydarzenie/puchar-polski-w-parapodnoszeniu-ciezarow/
LOCATION:Wrocław\, Rakietowa 33\, Wrocław\, dolnośląskie\, 54-615\, Poland
CATEGORIES:Parapodnoszenie ciężarów
END:VEVENT
BEGIN:VEVENT
DTSTART;VALUE=DATE:20250523
DTEND;VALUE=DATE:20250526
DTSTAMP:20260423T225312
CREATED:20250211T180439Z
LAST-MODIFIED:20250515T135444Z
UID:10001000-1747958400-1748217599@pzsnstart.eu
SUMMARY:III runda Parapływackiego Grand Prix Polski
DESCRIPTION:III runda Parapływackiego Grand Prix Polski – Wrocław 2025 \nW dniach 23–25 maja 2025 roku na pływalni Akademii Wychowania Fizycznego we Wrocławiu odbędzie się III runda Parapływackiego Grand Prix Polski\, połączona z XXXI Ogólnopolskimi Integracyjnymi Zawodami Pływackimi „Wrocław 2025”. \nZawody organizowane są przez WZSN „START” Wrocław oraz PZSN „START” przy wsparciu m.in. PFRON\, Ministerstwa Sportu i Turystyki\, Urzędu Marszałkowskiego Województwa Dolnośląskiego i Gminy Wrocław. \nWięcej informacji: https://livetiming.pl/contest/7091a406-eda9-438d-b95e-0e87c0f25061
URL:https://pzsnstart.eu/wydarzenie/iii-runda-paraplywackiego-grand-prix-polski/
LOCATION:Wrocław\, Rakietowa 33\, Wrocław\, dolnośląskie\, 54-615\, Poland
CATEGORIES:Parapływanie
ATTACH;FMTTYPE=image/png:https://pzsnstart.eu/wp-content/uploads/2025/02/fffff-e1740050766637.png
END:VEVENT
END:VCALENDAR